BEGIN:VCALENDAR
VERSION:2.0
PRODID:-//Oasis de l&#039;Aube - ECPv6.15.18//NONSGML v1.0//EN
CALSCALE:GREGORIAN
METHOD:PUBLISH
X-WR-CALNAME:Oasis de l&#039;Aube
X-ORIGINAL-URL:https://oasisdelaube.org
X-WR-CALDESC:Évènements pour Oasis de l&#039;Aube
REFRESH-INTERVAL;VALUE=DURATION:PT1H
X-Robots-Tag:noindex
X-PUBLISHED-TTL:PT1H
BEGIN:VTIMEZONE
TZID:Europe/Paris
BEGIN:DAYLIGHT
TZOFFSETFROM:+0100
TZOFFSETTO:+0200
TZNAME:CEST
DTSTART:20240331T010000
END:DAYLIGHT
BEGIN:STANDARD
TZOFFSETFROM:+0200
TZOFFSETTO:+0100
TZNAME:CET
DTSTART:20241027T010000
END:STANDARD
BEGIN:DAYLIGHT
TZOFFSETFROM:+0100
TZOFFSETTO:+0200
TZNAME:CEST
DTSTART:20250330T010000
END:DAYLIGHT
BEGIN:STANDARD
TZOFFSETFROM:+0200
TZOFFSETTO:+0100
TZNAME:CET
DTSTART:20251026T010000
END:STANDARD
BEGIN:DAYLIGHT
TZOFFSETFROM:+0100
TZOFFSETTO:+0200
TZNAME:CEST
DTSTART:20260329T010000
END:DAYLIGHT
BEGIN:STANDARD
TZOFFSETFROM:+0200
TZOFFSETTO:+0100
TZNAME:CET
DTSTART:20261025T010000
END:STANDARD
END:VTIMEZONE
BEGIN:VEVENT
DTSTART;TZID=Europe/Paris:20250927T160000
DTEND;TZID=Europe/Paris:20251001T140000
DTSTAMP:20260420T220206
CREATED:20241102T130130Z
LAST-MODIFIED:20241102T130130Z
UID:2441-1758988800-1759327200@oasisdelaube.org
SUMMARY:Retraite holistique avec Ilia Renon
DESCRIPTION:Retraite holistique avec Ilia Renon
URL:https://oasisdelaube.org/evenement/retraite-holistique-avec-ilia-renon-2/
ATTACH;FMTTYPE=image/jpeg:https://oasisdelaube.org/wp-content/uploads/2023/03/atelierweb.jpg
END:VEVENT
BEGIN:VEVENT
DTSTART;VALUE=DATE:20251009
DTEND;VALUE=DATE:20251012
DTSTAMP:20260420T220206
CREATED:20251007T201748Z
LAST-MODIFIED:20251007T201748Z
UID:2634-1759968000-1760227199@oasisdelaube.org
SUMMARY:Retraite de Yoga
DESCRIPTION:Informations à suivre!
URL:https://oasisdelaube.org/evenement/retraite-de-yoga-6/
LOCATION:L’Oasis de l’Aube
END:VEVENT
BEGIN:VEVENT
DTSTART;VALUE=DATE:20251018
DTEND;VALUE=DATE:20251023
DTSTAMP:20260420T220206
CREATED:20241019T141713Z
LAST-MODIFIED:20241019T141713Z
UID:2387-1760745600-1761177599@oasisdelaube.org
SUMMARY:Retraite de Yoga avec Cécile Doherty-Bigara
DESCRIPTION:
URL:https://oasisdelaube.org/evenement/retraite-de-yoga-avec-cecile-doherty-bigara-2/
ATTACH;FMTTYPE=image/jpeg:https://oasisdelaube.org/wp-content/uploads/2021/05/cecile-doherty-yoga.jpg
END:VEVENT
END:VCALENDAR