BEGIN:VCALENDAR
VERSION:2.0
PRODID:-//Oasis de l&#039;Aube - ECPv6.15.18//NONSGML v1.0//EN
CALSCALE:GREGORIAN
METHOD:PUBLISH
X-ORIGINAL-URL:https://oasisdelaube.org
X-WR-CALDESC:Évènements pour Oasis de l&#039;Aube
REFRESH-INTERVAL;VALUE=DURATION:PT1H
X-Robots-Tag:noindex
X-PUBLISHED-TTL:PT1H
BEGIN:VTIMEZONE
TZID:Europe/Paris
BEGIN:DAYLIGHT
TZOFFSETFROM:+0100
TZOFFSETTO:+0200
TZNAME:CEST
DTSTART:20240331T010000
END:DAYLIGHT
BEGIN:STANDARD
TZOFFSETFROM:+0200
TZOFFSETTO:+0100
TZNAME:CET
DTSTART:20241027T010000
END:STANDARD
BEGIN:DAYLIGHT
TZOFFSETFROM:+0100
TZOFFSETTO:+0200
TZNAME:CEST
DTSTART:20250330T010000
END:DAYLIGHT
BEGIN:STANDARD
TZOFFSETFROM:+0200
TZOFFSETTO:+0100
TZNAME:CET
DTSTART:20251026T010000
END:STANDARD
BEGIN:DAYLIGHT
TZOFFSETFROM:+0100
TZOFFSETTO:+0200
TZNAME:CEST
DTSTART:20260329T010000
END:DAYLIGHT
BEGIN:STANDARD
TZOFFSETFROM:+0200
TZOFFSETTO:+0100
TZNAME:CET
DTSTART:20261025T010000
END:STANDARD
END:VTIMEZONE
BEGIN:VEVENT
DTSTART;TZID=Europe/Paris:20250412T170000
DTEND;TZID=Europe/Paris:20250416T140000
DTSTAMP:20260421T075959
CREATED:20241019T140958Z
LAST-MODIFIED:20241019T141226Z
UID:2383-1744477200-1744812000@oasisdelaube.org
SUMMARY:Retraite holistique avec Ilia Renon
DESCRIPTION:
URL:https://oasisdelaube.org/evenement/retraite-holistique-avec-ilia-renon/
ATTACH;FMTTYPE=image/jpeg:https://oasisdelaube.org/wp-content/uploads/2023/03/atelierweb.jpg
END:VEVENT
BEGIN:VEVENT
DTSTART;VALUE=DATE:20250430
DTEND;VALUE=DATE:20250505
DTSTAMP:20260421T075959
CREATED:20241019T141424Z
LAST-MODIFIED:20241019T142051Z
UID:2385-1745971200-1746403199@oasisdelaube.org
SUMMARY:Retraite de Yoga avec Cécile Doherty-Bigara
DESCRIPTION:5 jours d’immersion dans le magnifique cadre de L’Oasis de l’Aube pour prendre soin de vous. \nAu programme de la retraite : méditations\, 2 pratiques de Yoga par jour (Yoga Vinyasa\, Yin Yoga\, Yoga Restauratif)\, cercles de partages\, séances d’écriture\, introspection\, exercices de respiration\, balades dans la nature. \nCette retraite est ouverte à tous les niveaux de pratiquants\, débutants et expérimentés. Plus d’informations :
URL:https://oasisdelaube.org/evenement/retraite-de-yoga-avec-cecile-doherty-bigara/
ATTACH;FMTTYPE=image/jpeg:https://oasisdelaube.org/wp-content/uploads/2021/05/cecile-doherty-yoga.jpg
END:VEVENT
END:VCALENDAR