BEGIN:VCALENDAR
VERSION:2.0
PRODID:-//Oasis de l&#039;Aube - ECPv6.15.18//NONSGML v1.0//EN
CALSCALE:GREGORIAN
METHOD:PUBLISH
X-ORIGINAL-URL:https://oasisdelaube.org
X-WR-CALDESC:Évènements pour Oasis de l&#039;Aube
REFRESH-INTERVAL;VALUE=DURATION:PT1H
X-Robots-Tag:noindex
X-PUBLISHED-TTL:PT1H
BEGIN:VTIMEZONE
TZID:Europe/Paris
BEGIN:DAYLIGHT
TZOFFSETFROM:+0100
TZOFFSETTO:+0200
TZNAME:CEST
DTSTART:20240331T010000
END:DAYLIGHT
BEGIN:STANDARD
TZOFFSETFROM:+0200
TZOFFSETTO:+0100
TZNAME:CET
DTSTART:20241027T010000
END:STANDARD
BEGIN:DAYLIGHT
TZOFFSETFROM:+0100
TZOFFSETTO:+0200
TZNAME:CEST
DTSTART:20250330T010000
END:DAYLIGHT
BEGIN:STANDARD
TZOFFSETFROM:+0200
TZOFFSETTO:+0100
TZNAME:CET
DTSTART:20251026T010000
END:STANDARD
BEGIN:DAYLIGHT
TZOFFSETFROM:+0100
TZOFFSETTO:+0200
TZNAME:CEST
DTSTART:20260329T010000
END:DAYLIGHT
BEGIN:STANDARD
TZOFFSETFROM:+0200
TZOFFSETTO:+0100
TZNAME:CET
DTSTART:20261025T010000
END:STANDARD
END:VTIMEZONE
BEGIN:VEVENT
DTSTART;VALUE=DATE:20250327
DTEND;VALUE=DATE:20250331
DTSTAMP:20260421T093405
CREATED:20241019T140053Z
LAST-MODIFIED:20241102T110305Z
UID:2379-1743033600-1743379199@oasisdelaube.org
SUMMARY:Stage femme sacré - Sophie
DESCRIPTION:Retraite Tantra » réveil de la Shakti «\nPour le réveil du printemps\, nous te proposons un voyage !\n\nAvec l’énergie de la nouvelle lune pour poser ses nouvelles intentions \, le renouveau qui éclôt dans la nature comme en soi !\nC’est une invitation à revenir en toi \, en ton énergie vitale\, en ta Yoni …\nUne retraite pour aller a la rencontre de soi \, de l’amour\, grâce a la Rose et au Tantra …\nUne invitation a plonger en pleine présence dans ton corps et ta Yoni\, de fusionner avec elle …\nCette retraite te guidera vers :\n-la Libération de mémoire\n-L’union des polarités\n-L’orientation du cœur\n– Une rencontre intime et énergique vers l’expansion\n-L’éveil de l’énergie du désir\,de la sensualité \,de l’amour de soi\n– L’Intégration et la transformation de l’énergie émotionnelle et sexuelle.
URL:https://oasisdelaube.org/evenement/stage-femme-sacre-sophie/
ATTACH;FMTTYPE=image/jpeg:https://oasisdelaube.org/wp-content/uploads/2024/10/IMG_20241002_131307.jpg
END:VEVENT
END:VCALENDAR