BEGIN:VCALENDAR
VERSION:2.0
PRODID:-//Oasis de l&#039;Aube - ECPv6.15.18//NONSGML v1.0//EN
CALSCALE:GREGORIAN
METHOD:PUBLISH
X-WR-CALNAME:Oasis de l&#039;Aube
X-ORIGINAL-URL:https://oasisdelaube.org
X-WR-CALDESC:Évènements pour Oasis de l&#039;Aube
REFRESH-INTERVAL;VALUE=DURATION:PT1H
X-Robots-Tag:noindex
X-PUBLISHED-TTL:PT1H
BEGIN:VTIMEZONE
TZID:Europe/Paris
BEGIN:DAYLIGHT
TZOFFSETFROM:+0100
TZOFFSETTO:+0200
TZNAME:CEST
DTSTART:20180325T010000
END:DAYLIGHT
BEGIN:STANDARD
TZOFFSETFROM:+0200
TZOFFSETTO:+0100
TZNAME:CET
DTSTART:20181028T010000
END:STANDARD
BEGIN:DAYLIGHT
TZOFFSETFROM:+0100
TZOFFSETTO:+0200
TZNAME:CEST
DTSTART:20190331T010000
END:DAYLIGHT
BEGIN:STANDARD
TZOFFSETFROM:+0200
TZOFFSETTO:+0100
TZNAME:CET
DTSTART:20191027T010000
END:STANDARD
BEGIN:DAYLIGHT
TZOFFSETFROM:+0100
TZOFFSETTO:+0200
TZNAME:CEST
DTSTART:20200329T010000
END:DAYLIGHT
BEGIN:STANDARD
TZOFFSETFROM:+0200
TZOFFSETTO:+0100
TZNAME:CET
DTSTART:20201025T010000
END:STANDARD
END:VTIMEZONE
BEGIN:VEVENT
DTSTART;VALUE=DATE:20190726
DTEND;VALUE=DATE:20190803
DTSTAMP:20260425T193631
CREATED:20181226T114000Z
LAST-MODIFIED:20190121T103455Z
UID:153-1564099200-1564790399@oasisdelaube.org
SUMMARY:Formation aromathérapie
DESCRIPTION:Les huiles essentielles sont de véritables concentrés de nature et d’énergie : on ressent\, en ouvrant le flacon\, la fleur\, la plante\, le mélange d’arômes qui se diffuse délicatement dans l’air\, à travers les narines\, sur la peau. Et les bienfaits\, multiples\, sont instantanés pour le corps et l’esprit. J’aime cette idée de partager avec les plantes leur force\, leur potentiel thérapeutique\, leurs bienfaits au quotidien\, facilement. Les huiles essentielles\, grâce à leur format et à leur variété\, permettent de s’adapter à chaque besoin\, chaque envie\, aux saisons\, aux déplacements. Elles trouvent en effet leur place dans tous les gestes du quotidien : en prévention pour la santé\, pour équilibrer les émotions\, en cosmétiques pour la peau\, les cheveux\, pour nettoyer la maison\, dans l’alimentation\, pour soigner ses animaux…Convaincues de la nécessité de diffuser au maximum la connaissance et l’utilisation des soins naturels\, pour plus de respect de notre corps\, de nos équilibres et de la nature\, nous partageons notre amour des huiles essentielles et formons d’autres personnes\, pour qu’elles puissent à leur tour les partager autour d’elles. »Au cours de cette formation\, vous apprendrez à découvrir les huiles essentielles\, à les identifier\, à les utiliser en toute sécurité\, à explorer vos ressentis\, à créer des synergies et à développer des protocoles de soins. La formation\, assurée par deux spécialistes\, mêle théorie et pratique\, avec un accent important sur le ressenti personnel\, en s’appuyant sur des techniques de recherche intérieure (méditation\, pranayama\,  visualisation\, contact avec les plantes et la nature). \nEmeline\, Fondatrice et formatrice de Shantyoga\, Thérapeute en Ayurveda\, Aromathérapie\, Olfactothérapie\, Energétique\, Lithothérapie et herboristerie et Marine\, Sage-femme\, Professeur Shantyoga\, Thérapeute en aromathérapie\, Homéopathie et Médecine Chinoise. \nPour plus d’informations ou pour les inscriptions : https://www.shantyoga.org/portfolio/formation-aromatherapie-energetique/
URL:https://oasisdelaube.org/evenement/formation-aromatherapie/
CATEGORIES:Formation
ATTACH;FMTTYPE=image/jpeg:https://oasisdelaube.org/wp-content/uploads/2018/12/formation-aromathérapie.jpeg
END:VEVENT
END:VCALENDAR