BEGIN:VCALENDAR
VERSION:2.0
PRODID:-//Oasis de l&#039;Aube - ECPv6.15.18//NONSGML v1.0//EN
CALSCALE:GREGORIAN
METHOD:PUBLISH
X-ORIGINAL-URL:https://oasisdelaube.org
X-WR-CALDESC:Évènements pour Oasis de l&#039;Aube
REFRESH-INTERVAL;VALUE=DURATION:PT1H
X-Robots-Tag:noindex
X-PUBLISHED-TTL:PT1H
BEGIN:VTIMEZONE
TZID:Europe/Paris
BEGIN:DAYLIGHT
TZOFFSETFROM:+0100
TZOFFSETTO:+0200
TZNAME:CEST
DTSTART:20250330T010000
END:DAYLIGHT
BEGIN:STANDARD
TZOFFSETFROM:+0200
TZOFFSETTO:+0100
TZNAME:CET
DTSTART:20251026T010000
END:STANDARD
BEGIN:DAYLIGHT
TZOFFSETFROM:+0100
TZOFFSETTO:+0200
TZNAME:CEST
DTSTART:20260329T010000
END:DAYLIGHT
BEGIN:STANDARD
TZOFFSETFROM:+0200
TZOFFSETTO:+0100
TZNAME:CET
DTSTART:20261025T010000
END:STANDARD
BEGIN:DAYLIGHT
TZOFFSETFROM:+0100
TZOFFSETTO:+0200
TZNAME:CEST
DTSTART:20270328T010000
END:DAYLIGHT
BEGIN:STANDARD
TZOFFSETFROM:+0200
TZOFFSETTO:+0100
TZNAME:CET
DTSTART:20271031T010000
END:STANDARD
END:VTIMEZONE
BEGIN:VEVENT
DTSTART;VALUE=DATE:20260426
DTEND;VALUE=DATE:20260427
DTSTAMP:20260420T184744
CREATED:20260321T081042Z
LAST-MODIFIED:20260321T081042Z
UID:2883-1777161600-1777247999@oasisdelaube.org
SUMMARY:Réservation provisoire
DESCRIPTION:Informations à suivre!
URL:https://oasisdelaube.org/evenement/reservation-provisoire-2/
END:VEVENT
BEGIN:VEVENT
DTSTART;VALUE=DATE:20260427
DTEND;VALUE=DATE:20260430
DTSTAMP:20260420T184744
CREATED:20260118T094605Z
LAST-MODIFIED:20260118T094605Z
UID:2824-1777248000-1777507199@oasisdelaube.org
SUMMARY:Réservation provisoire
DESCRIPTION:Informations à suivre!
URL:https://oasisdelaube.org/evenement/reservation-provisoire-10/
END:VEVENT
END:VCALENDAR